BEGIN:VCALENDAR
VERSION:2.0
PRODID:-//Cambridge Main Street - ECPv6.11.2//NONSGML v1.0//EN
CALSCALE:GREGORIAN
METHOD:PUBLISH
X-ORIGINAL-URL:https://downtowncambridge.com
X-WR-CALDESC:Events for Cambridge Main Street
REFRESH-INTERVAL;VALUE=DURATION:PT1H
X-Robots-Tag:noindex
X-PUBLISHED-TTL:PT1H
BEGIN:VTIMEZONE
TZID:America/New_York
BEGIN:DAYLIGHT
TZOFFSETFROM:-0500
TZOFFSETTO:-0400
TZNAME:EDT
DTSTART:20240310T070000
END:DAYLIGHT
BEGIN:STANDARD
TZOFFSETFROM:-0400
TZOFFSETTO:-0500
TZNAME:EST
DTSTART:20241103T060000
END:STANDARD
END:VTIMEZONE
BEGIN:VEVENT
DTSTART;TZID=America/New_York:20240425T173000
DTEND;TZID=America/New_York:20240425T203000
DTSTAMP:20260421T160128
CREATED:20240124T151850Z
LAST-MODIFIED:20240124T152851Z
UID:3573-1714066200-1714077000@downtowncambridge.com
SUMMARY:Cambridge Main Street Basket Bonanza
DESCRIPTION:
URL:https://downtowncambridge.com/event/cambridge-main-street-basket-bonanza/
LOCATION:Pritchard Laughlin Civic Center\, 7033 Glenn Highway\, Cambridge\, OH\, 43725\, United States
CATEGORIES:auction,Fundraiser
ORGANIZER;CN="Cambridge Main Street":MAILTO:director@downtowncambridge.com
END:VEVENT
END:VCALENDAR