BEGIN:VCALENDAR
VERSION:2.0
PRODID:-//Cambridge Main Street - ECPv6.11.2//NONSGML v1.0//EN
CALSCALE:GREGORIAN
METHOD:PUBLISH
X-ORIGINAL-URL:https://downtowncambridge.com
X-WR-CALDESC:Events for Cambridge Main Street
REFRESH-INTERVAL;VALUE=DURATION:PT1H
X-Robots-Tag:noindex
X-PUBLISHED-TTL:PT1H
BEGIN:VTIMEZONE
TZID:America/New_York
BEGIN:DAYLIGHT
TZOFFSETFROM:-0500
TZOFFSETTO:-0400
TZNAME:EDT
DTSTART:20240310T070000
END:DAYLIGHT
BEGIN:STANDARD
TZOFFSETFROM:-0400
TZOFFSETTO:-0500
TZNAME:EST
DTSTART:20241103T060000
END:STANDARD
BEGIN:DAYLIGHT
TZOFFSETFROM:-0500
TZOFFSETTO:-0400
TZNAME:EDT
DTSTART:20250309T070000
END:DAYLIGHT
BEGIN:STANDARD
TZOFFSETFROM:-0400
TZOFFSETTO:-0500
TZNAME:EST
DTSTART:20251102T060000
END:STANDARD
END:VTIMEZONE
BEGIN:VEVENT
DTSTART;TZID=America/New_York:20250920T100000
DTEND;TZID=America/New_York:20250920T180000
DTSTAMP:20260422T090858
CREATED:20250326T181556Z
LAST-MODIFIED:20250513T130502Z
UID:4628-1758362400-1758391200@downtowncambridge.com
SUMMARY:Cambridge Main Street Fall Festival
DESCRIPTION:🍂🎉 Get Ready for an Exciting Fall Festival! 🎉🍂 \nJoin us for a day packed with fun\, food\, and festivities at this year’s Fall Festival! Whether you’re looking to entertain the kids\, enjoy live music\, or explore local artistry\, we’ve got something for everyone! \n🎈 Kids’ Games & Activities: From carnival classics to interactive fun\, your little ones will light up with joy! \n🎶 Live Bands: Feel the rhythm and soak up the sounds of amazing local and regional bands as they bring the energy all day long. \n🍴 Food Trucks Galore: Come hungry! Indulge in a variety of mouthwatering options from our fleet of top-notch food trucks. \n🛍️ Craft Vendors: Browse unique\, handcrafted goods and take home a one-of-a-kind treasure! \n🎨 Art Galleries: Immerse yourself in creativity and inspiration as you tour our special art exhibits showcasing talented local artists. \nAnd that’s not all! Expect a few surprises\, a warm community vibe\, and an unforgettable celebration of everything we love about fall. Mark your calendars\, bring your friends and family\, and prepare for a fantastic day! \n🍁 When: September 20th\, 10 am to 6 pm.📍 Where: Downtown Cambridge \nLet’s make memories together at the Fall Festival! 🧡 Who’s excited? Tell us what you’re looking forward to most! \n#FallFestival #FamilyFun #CommunityCelebration #AutumnAdventures 🍂 \nThe activities offered by Cambridge Main Street at our Fall Festival are designed to enrich our community by fostering artistic expression\, promoting educational opportunities\, and celebrating cultural heritage. From live performances that showcase local talent to hands-on workshops that inspire creativity\, each event is crafted to engage participants of all ages. Educationally\, the festival provides opportunities to learn about regional history\, traditions\, and craftsmanship through interactive displays and storytelling. Culturally\, the festival highlights the diversity and unique identity of our community\, creating a space for meaningful connections and shared experiences. Join us to celebrate the season while embracing the artistic\, educational\, and cultural treasures that make Cambridge a vibrant place to live and visit.
URL:https://downtowncambridge.com/event/cambridge-main-street-fall-festival/
LOCATION:Historic Downtown Cambridge-Wheeling Ave\, 801 Wheeling Avenue\, Cambridge\, OH\, 43725\, United States
CATEGORIES:Cambridge Main Street Events,Craft Vendors,Downtown Happenings,Family,Food trucks,Free,Fundraiser,History,music
ORGANIZER;CN="Cambridge Main Street":MAILTO:director@downtowncambridge.com
END:VEVENT
BEGIN:VEVENT
DTSTART;TZID=America/New_York:20250607T110000
DTEND;TZID=America/New_York:20250607T120000
DTSTAMP:20260422T090858
CREATED:20250303T162708Z
LAST-MODIFIED:20250303T184354Z
UID:4489-1749294000-1749297600@downtowncambridge.com
SUMMARY:June Underground Tour - 11 am
DESCRIPTION:Step back in time and explore the hidden gems of Cambridge\, Ohio\, with our Underground Tour. This guided walking tour takes you beneath the surface to uncover the secrets of historic buildings along Wheeling Avenue. You’ll walk along forgotten passageways\, once bustling with life\, now preserved as a testament to the past.Don’t miss this opportunity to experience the city’s hidden history and support local historic preservation efforts.The tour lasts about an hour. There are stairs involved\, and it is an underground space so it can be a little chilly and a bit musky.Participants are asked to wear closed toe shoes. \nTickets are $25 per person and must be purchased in advance.
URL:https://downtowncambridge.com/event/june-underground-tour-11-am/
LOCATION:653 Wheeling Avenue
CATEGORIES:Cambridge Main Street Events,Downtown Happenings,Fundraiser,History,Tour
ATTACH;FMTTYPE=image/png:https://downtowncambridge.com/wp-content/uploads/2025/02/Tour-Cambridges-Historic-Underground.png
ORGANIZER;CN="Cambridge Main Street":MAILTO:director@downtowncambridge.com
END:VEVENT
BEGIN:VEVENT
DTSTART;TZID=America/New_York:20250322T150000
DTEND;TZID=America/New_York:20250322T160000
DTSTAMP:20260422T090858
CREATED:20250203T153804Z
LAST-MODIFIED:20250313T132053Z
UID:4416-1742655600-1742659200@downtowncambridge.com
SUMMARY:March Underground Tour 3 pm
DESCRIPTION:Step back in time and explore the hidden gems of Cambridge\, Ohio\, with our Underground Tour. This guided walking tour takes you beneath the surface to uncover the secrets of historic buildings along Wheeling Avenue. You’ll walk along forgotten passageways\, once bustling with life\, now preserved as a testament to the past.\nDon’t miss this opportunity to experience the city’s hidden history and support local historic preservation efforts.\nThe tour lasts about an hour. There are stairs involved\, and it is an underground space so it can be a little chilly and a bit musky.
URL:https://downtowncambridge.com/event/march-underground-tour-3-pm/
LOCATION:653 Wheeling Avenue
CATEGORIES:Downtown Happenings,Family,Fundraiser,History,Tour
ATTACH;FMTTYPE=image/png:https://downtowncambridge.com/wp-content/uploads/2025/02/Tour-Cambridges-Historic-Underground.png
ORGANIZER;CN="Cambridge Main Street":MAILTO:director@downtowncambridge.com
END:VEVENT
BEGIN:VEVENT
DTSTART;TZID=America/New_York:20250322T130000
DTEND;TZID=America/New_York:20250322T140000
DTSTAMP:20260422T090858
CREATED:20250203T152705Z
LAST-MODIFIED:20250203T160823Z
UID:4413-1742648400-1742652000@downtowncambridge.com
SUMMARY:March Underground Tour 1 pm
DESCRIPTION:Step back in time and explore the hidden gems of Cambridge\, Ohio\, with our Underground Tour. This guided walking tour takes you beneath the surface to uncover the secrets of historic buildings along Wheeling Avenue. You’ll walk along forgotten passageways\, once bustling with life\, now preserved as a testament to the past.\nDon’t miss this opportunity to experience the city’s hidden history and support local historic preservation efforts.\nThe tour lasts about an hour. There are stairs involved\, and it is an underground space so it can be a little chilly and a bit musky.
URL:https://downtowncambridge.com/event/march-underground-tour-1-pm/
LOCATION:653 Wheeling Avenue
CATEGORIES:Cambridge Main Street Events,Downtown Happenings,Family,History,Tour
ATTACH;FMTTYPE=image/png:https://downtowncambridge.com/wp-content/uploads/2025/02/Tour-Cambridges-Historic-Underground.png
ORGANIZER;CN="Cambridge Main Street":MAILTO:director@downtowncambridge.com
END:VEVENT
BEGIN:VEVENT
DTSTART;TZID=America/New_York:20250322T110000
DTEND;TZID=America/New_York:20250322T120000
DTSTAMP:20260422T090858
CREATED:20250203T151333Z
LAST-MODIFIED:20250308T135458Z
UID:4407-1742641200-1742644800@downtowncambridge.com
SUMMARY:March Underground Tour 11 am
DESCRIPTION:This event is now sold out
URL:https://downtowncambridge.com/event/march-underground-tour-11-am/
LOCATION:653 Wheeling Avenue
CATEGORIES:Cambridge Main Street Events,Downtown Happenings,History,Tour
ATTACH;FMTTYPE=image/png:https://downtowncambridge.com/wp-content/uploads/2025/02/Tour-Cambridges-Historic-Underground.png
ORGANIZER;CN="Cambridge Main Street":MAILTO:director@downtowncambridge.com
END:VEVENT
BEGIN:VEVENT
DTSTART;TZID=America/New_York:20240912T100000
DTEND;TZID=America/New_York:20240912T180000
DTSTAMP:20260422T090858
CREATED:20240815T135551Z
LAST-MODIFIED:20240815T135551Z
UID:4162-1726135200-1726164000@downtowncambridge.com
SUMMARY:Cambridge History Open Doors Day
DESCRIPTION:Cambridge Main Street is partnering with local museums and groups to present a full day of viewing opportunities.\n🎉 Discover Cambridge’s Rich History! 🎉 \nJoin us for an unforgettable Cambridge History Open Door Day! Dive into the past with exciting tours and activities across downtown Cambridge. Here’s what’s in store: \n📚 Guernsey County District Public Library / Carnegie Library\n3:00-5:00 p.m.\nExplore the stunning Carnegie Library! Tour all four floors\, uncover the library’s fascinating history from its 1903 construction\, and marvel at unique relics in the Finley Room. \n🎭 Scottish Rite Auditorium\n10:00 a.m. – 12:00 p.m.\nGet a rare backstage tour of this historic venue! It was originally built in the 1930’s and has remained a beautiful asset to our community for nearly 100 years. \n🎱 Lucky Shot Pool Hall\nOpen all day for some fun and games! You can play a few games and hear some history while you’re at it. \n🏺 National Museum of Glass\n10:00 a.m. – 6:00 p.m.\nEnjoy free entry and discover the history of glassmaking. Your host\, Cindy Arent\, will provide you with a wealth of knowledge\, possibly including some movie history featuring Cambridge Glass. \n🏛️ Guernsey County Historical Museum\n10:00 a.m. – 6:00 p.m.\nExtended hours to delve into local history. Spend some time with our local historians who will amaze you with their knowledge and stories of our local history. \n🌐 Historic Underground Area\n10:00 a.m. – 1:00 p.m. & 4:00 p.m. – 6:00 p.m.\nExplore the hidden history of Cambridge! See the original store front built below street level and walk on the original sidewalk. This space is only open limited times throughout the year.  \nCambridge Performing Arts Center\n12:00 pm – 6:00 pm\nLearn about the history of this historic theater that was originally built in 1907 and originally named “The Strand”. Take a tour to see how unique it really is.  \nDon’t miss out on this incredible journey through time! 🚀✨
URL:https://downtowncambridge.com/event/cambridge-history-open-doors-day/
LOCATION:Historic Downtown Cambridge-Wheeling Ave\, 801 Wheeling Avenue\, Cambridge\, OH\, 43725\, United States
CATEGORIES:Cambridge Main Street Events,Downtown Happenings,History,Tour
ORGANIZER;CN="Cambridge Main Street":MAILTO:director@downtowncambridge.com
END:VEVENT
BEGIN:VEVENT
DTSTART;TZID=America/New_York:20240727T110000
DTEND;TZID=America/New_York:20240727T160000
DTSTAMP:20260422T090858
CREATED:20240130T185632Z
LAST-MODIFIED:20240207T005104Z
UID:3595-1722078000-1722096000@downtowncambridge.com
SUMMARY:Underground Tour July 2024
DESCRIPTION:
URL:https://downtowncambridge.com/event/underground-tour-july-2024/
LOCATION:653 Wheeling Avenue
CATEGORIES:Cambridge Main Street Events,Downtown Happenings,History,Tour
ORGANIZER;CN="Cambridge Main Street":MAILTO:director@downtowncambridge.com
END:VEVENT
BEGIN:VEVENT
DTSTART;TZID=America/New_York:20240316T110000
DTEND;TZID=America/New_York:20240316T160000
DTSTAMP:20260422T090858
CREATED:20240130T184917Z
LAST-MODIFIED:20240207T000827Z
UID:3589-1710586800-1710604800@downtowncambridge.com
SUMMARY:Underground Tour March 2024
DESCRIPTION:
URL:https://downtowncambridge.com/event/underground-tour-march-2024/
LOCATION:653 Wheeling Avenue
CATEGORIES:Downtown Happenings,History,Tour
ORGANIZER;CN="Cambridge Main Street":MAILTO:director@downtowncambridge.com
END:VEVENT
END:VCALENDAR