BEGIN:VCALENDAR
VERSION:2.0
PRODID:-//Cambridge Main Street - ECPv6.11.2//NONSGML v1.0//EN
CALSCALE:GREGORIAN
METHOD:PUBLISH
X-WR-CALNAME:Cambridge Main Street
X-ORIGINAL-URL:https://downtowncambridge.com
X-WR-CALDESC:Events for Cambridge Main Street
REFRESH-INTERVAL;VALUE=DURATION:PT1H
X-Robots-Tag:noindex
X-PUBLISHED-TTL:PT1H
BEGIN:VTIMEZONE
TZID:America/New_York
BEGIN:DAYLIGHT
TZOFFSETFROM:-0500
TZOFFSETTO:-0400
TZNAME:EDT
DTSTART:20260308T070000
END:DAYLIGHT
BEGIN:STANDARD
TZOFFSETFROM:-0400
TZOFFSETTO:-0500
TZNAME:EST
DTSTART:20261101T060000
END:STANDARD
END:VTIMEZONE
BEGIN:VEVENT
DTSTART;TZID=America/New_York:20260423T170000
DTEND;TZID=America/New_York:20260423T190000
DTSTAMP:20260423T013801
CREATED:20251209T134650Z
LAST-MODIFIED:20251209T134650Z
UID:5101-1776963600-1776970800@downtowncambridge.com
SUMMARY:Basket Auction - A Beloved Event Returns
DESCRIPTION:The Basket Auction is back! After a successful run a few years ago\, Cambridge Main Street is excited to bring this community-favorite fundraiser back to life. Guests will enjoy browsing beautifully themed baskets donated by local businesses\, organizations\, and community members — each packed with unique items\, gift cards\, experiences\, and surprises. Place your bids\, enjoy the friendly competition\, and take home something special while supporting our mission to strengthen and revitalize downtown Cambridge. \nYour ticket includes hors d’oeuvres throughout the evening\, and a cash bar will be available for additional refreshments. Whether you’re hoping to win the perfect gift\, treat yourself\, or enjoy a fun night out with friends\, the Basket Auction offers something for everyone.
URL:https://downtowncambridge.com/event/basket-auction-a-beloved-event-returns/
LOCATION:Pritchard Laughlin Civic Center\, 7033 Glenn Highway\, Cambridge\, OH\, 43725\, United States
CATEGORIES:auction,Cambridge Main Street Events
ATTACH;FMTTYPE=image/jpeg:https://downtowncambridge.com/wp-content/uploads/2025/12/pic-of-flyer-2026-1.jpg
ORGANIZER;CN="Cambridge Main Street":MAILTO:director@downtowncambridge.com
END:VEVENT
END:VCALENDAR