BEGIN:VCALENDAR
VERSION:2.0
PRODID:-//Cambridge Main Street - ECPv6.11.2//NONSGML v1.0//EN
CALSCALE:GREGORIAN
METHOD:PUBLISH
X-WR-CALNAME:Cambridge Main Street
X-ORIGINAL-URL:https://downtowncambridge.com
X-WR-CALDESC:Events for Cambridge Main Street
REFRESH-INTERVAL;VALUE=DURATION:PT1H
X-Robots-Tag:noindex
X-PUBLISHED-TTL:PT1H
BEGIN:VTIMEZONE
TZID:America/New_York
BEGIN:DAYLIGHT
TZOFFSETFROM:-0500
TZOFFSETTO:-0400
TZNAME:EDT
DTSTART:20240310T070000
END:DAYLIGHT
BEGIN:STANDARD
TZOFFSETFROM:-0400
TZOFFSETTO:-0500
TZNAME:EST
DTSTART:20241103T060000
END:STANDARD
END:VTIMEZONE
BEGIN:VEVENT
DTSTART;TZID=America/New_York:20240907T090000
DTEND;TZID=America/New_York:20240907T150000
DTSTAMP:20260421T080648
CREATED:20240905T142819Z
LAST-MODIFIED:20240905T151141Z
UID:4200-1725699600-1725721200@downtowncambridge.com
SUMMARY:Wings\, Wheels\, 'N Youth
DESCRIPTION:https://cambridgeohioairport.com/
URL:https://downtowncambridge.com/event/youth-wings-n-wheels/
LOCATION:ohio
END:VEVENT
END:VCALENDAR